BEGIN:VCALENDAR
VERSION:2.0
CALSCALE:GREGORIAN
METHOD:PUBLISH
X-WR-TIMEZONE:Australia/Sydney
BEGIN:VTIMEZONE
TZID:Australia/Sydney
BEGIN:STANDARD
TZNAME:AEST
END:STANDARD
END:VTIMEZONE
BEGIN:VEVENT
DTSTART;TZID=Australia/Sydney:20200310T113000
DTEND;TZID=Australia/Sydney:20200310T133000
DTSTAMP:20200227T134643
UID:575
SUMMARY:Year 2 Swimming
DESCRIPTION:




11.30 - 2/1312pm - 2/1412.30pm - 2/151pm - 2/16


SEQUENCE:0
STATUS:CONFIRMED
TRANSP:OPAQUE
END:VEVENT
END:VCALENDAR