BEGIN:VCALENDAR
VERSION:2.0
CALSCALE:GREGORIAN
METHOD:PUBLISH
X-WR-TIMEZONE:Australia/Sydney
BEGIN:VTIMEZONE
TZID:Australia/Sydney
BEGIN:STANDARD
TZNAME:AEST
END:STANDARD
END:VTIMEZONE
BEGIN:VEVENT
DTSTART;TZID=Australia/Sydney:20200221T091000
DTEND;TZID=Australia/Sydney:20200221T110000
RRULE:FREQ=WEEKLY;UNTIL=20200221T110000;BYDAY=MO,TU,WE,TH
DTSTAMP:20200227T134654
UID:583
SUMMARY:Year 6 - Interschool Sport
DESCRIPTION:







SEQUENCE:0
STATUS:CONFIRMED
TRANSP:OPAQUE
END:VEVENT
END:VCALENDAR